BEGIN:VCALENDAR
VERSION:2.0
PRODID:-//Välkommen till Slättanäs Båtsällskap - ECPv6.15.20//NONSGML v1.0//EN
CALSCALE:GREGORIAN
METHOD:PUBLISH
X-ORIGINAL-URL:https://slattanas.nu
X-WR-CALDESC:Händelser för Välkommen till Slättanäs Båtsällskap
REFRESH-INTERVAL;VALUE=DURATION:PT1H
X-Robots-Tag:noindex
X-PUBLISHED-TTL:PT1H
BEGIN:VTIMEZONE
TZID:Europe/Stockholm
BEGIN:DAYLIGHT
TZOFFSETFROM:+0100
TZOFFSETTO:+0200
TZNAME:CEST
DTSTART:20250330T010000
END:DAYLIGHT
BEGIN:STANDARD
TZOFFSETFROM:+0200
TZOFFSETTO:+0100
TZNAME:CET
DTSTART:20251026T010000
END:STANDARD
BEGIN:DAYLIGHT
TZOFFSETFROM:+0100
TZOFFSETTO:+0200
TZNAME:CEST
DTSTART:20260329T010000
END:DAYLIGHT
BEGIN:STANDARD
TZOFFSETFROM:+0200
TZOFFSETTO:+0100
TZNAME:CET
DTSTART:20261025T010000
END:STANDARD
BEGIN:DAYLIGHT
TZOFFSETFROM:+0100
TZOFFSETTO:+0200
TZNAME:CEST
DTSTART:20270328T010000
END:DAYLIGHT
BEGIN:STANDARD
TZOFFSETFROM:+0200
TZOFFSETTO:+0100
TZNAME:CET
DTSTART:20271031T010000
END:STANDARD
END:VTIMEZONE
BEGIN:VEVENT
DTSTART;TZID=Europe/Stockholm:20260326T190000
DTEND;TZID=Europe/Stockholm:20260326T210000
DTSTAMP:20260421T023259
CREATED:20260223T180712Z
LAST-MODIFIED:20260223T180712Z
UID:2424-1774551600-1774558800@slattanas.nu
SUMMARY:Vårmöte 2026
DESCRIPTION:Välkomna till vårmöte för alla som medlemmar som önskar delta! \nVi syns där! \n//Styrelsen SBS
URL:https://slattanas.nu/event/varmote-2026/
LOCATION:Listerby IK klubbstuga\, Västragårdsvägen 45\, Listerby\, Sverige
CATEGORIES:Möten
END:VEVENT
END:VCALENDAR