BEGIN:VCALENDAR
VERSION:2.0
PRODID:-//Välkommen till Slättanäs Båtsällskap - ECPv6.15.20//NONSGML v1.0//EN
CALSCALE:GREGORIAN
METHOD:PUBLISH
X-ORIGINAL-URL:https://slattanas.nu
X-WR-CALDESC:Händelser för Välkommen till Slättanäs Båtsällskap
REFRESH-INTERVAL;VALUE=DURATION:PT1H
X-Robots-Tag:noindex
X-PUBLISHED-TTL:PT1H
BEGIN:VTIMEZONE
TZID:Europe/Stockholm
BEGIN:DAYLIGHT
TZOFFSETFROM:+0100
TZOFFSETTO:+0200
TZNAME:CEST
DTSTART:20230326T010000
END:DAYLIGHT
BEGIN:STANDARD
TZOFFSETFROM:+0200
TZOFFSETTO:+0100
TZNAME:CET
DTSTART:20231029T010000
END:STANDARD
BEGIN:DAYLIGHT
TZOFFSETFROM:+0100
TZOFFSETTO:+0200
TZNAME:CEST
DTSTART:20240331T010000
END:DAYLIGHT
BEGIN:STANDARD
TZOFFSETFROM:+0200
TZOFFSETTO:+0100
TZNAME:CET
DTSTART:20241027T010000
END:STANDARD
BEGIN:DAYLIGHT
TZOFFSETFROM:+0100
TZOFFSETTO:+0200
TZNAME:CEST
DTSTART:20250330T010000
END:DAYLIGHT
BEGIN:STANDARD
TZOFFSETFROM:+0200
TZOFFSETTO:+0100
TZNAME:CET
DTSTART:20251026T010000
END:STANDARD
END:VTIMEZONE
BEGIN:VEVENT
DTSTART;TZID=Europe/Stockholm:20240921T080000
DTEND;TZID=Europe/Stockholm:20240921T170000
DTSTAMP:20260423T194522
CREATED:20240112T073600Z
LAST-MODIFIED:20240112T073600Z
UID:2059-1726905600-1726938000@slattanas.nu
SUMMARY:Torrsättning 1
DESCRIPTION:
URL:https://slattanas.nu/event/torrsattning-1-3/
CATEGORIES:Torrsättning
END:VEVENT
BEGIN:VEVENT
DTSTART;TZID=Europe/Stockholm:20240922T080000
DTEND;TZID=Europe/Stockholm:20240922T170000
DTSTAMP:20260423T194522
CREATED:20240112T073637Z
LAST-MODIFIED:20240112T073725Z
UID:2061-1726992000-1727024400@slattanas.nu
SUMMARY:Torrsättning 2
DESCRIPTION:
URL:https://slattanas.nu/event/torrsattning-2-3/
CATEGORIES:Torrsättning
END:VEVENT
BEGIN:VEVENT
DTSTART;TZID=Europe/Stockholm:20240928T080000
DTEND;TZID=Europe/Stockholm:20240928T170000
DTSTAMP:20260423T194522
CREATED:20240112T073707Z
LAST-MODIFIED:20240112T073714Z
UID:2063-1727510400-1727542800@slattanas.nu
SUMMARY:Torrsättning 3
DESCRIPTION:
URL:https://slattanas.nu/event/torrsattning-3-3/
CATEGORIES:Torrsättning
END:VEVENT
BEGIN:VEVENT
DTSTART;TZID=Europe/Stockholm:20240929T080000
DTEND;TZID=Europe/Stockholm:20240929T170000
DTSTAMP:20260423T194522
CREATED:20240112T073749Z
LAST-MODIFIED:20240112T073749Z
UID:2065-1727596800-1727629200@slattanas.nu
SUMMARY:Torrsättning 4
DESCRIPTION:
URL:https://slattanas.nu/event/torrsattning-4-3/
CATEGORIES:Torrsättning
END:VEVENT
END:VCALENDAR